BEGIN:VCALENDAR
VERSION:2.0
PRODID:-//The Buzz - ECPv6.15.20//NONSGML v1.0//EN
CALSCALE:GREGORIAN
METHOD:PUBLISH
X-WR-CALNAME:The Buzz
X-ORIGINAL-URL:https://buzzpei.com
X-WR-CALDESC:Events for The Buzz
REFRESH-INTERVAL;VALUE=DURATION:PT1H
X-Robots-Tag:noindex
X-PUBLISHED-TTL:PT1H
BEGIN:VTIMEZONE
TZID:America/Halifax
BEGIN:DAYLIGHT
TZOFFSETFROM:-0400
TZOFFSETTO:-0300
TZNAME:ADT
DTSTART:20250309T060000
END:DAYLIGHT
BEGIN:STANDARD
TZOFFSETFROM:-0300
TZOFFSETTO:-0400
TZNAME:AST
DTSTART:20251102T050000
END:STANDARD
BEGIN:DAYLIGHT
TZOFFSETFROM:-0400
TZOFFSETTO:-0300
TZNAME:ADT
DTSTART:20260308T060000
END:DAYLIGHT
BEGIN:STANDARD
TZOFFSETFROM:-0300
TZOFFSETTO:-0400
TZNAME:AST
DTSTART:20261101T050000
END:STANDARD
BEGIN:DAYLIGHT
TZOFFSETFROM:-0400
TZOFFSETTO:-0300
TZNAME:ADT
DTSTART:20270314T060000
END:DAYLIGHT
BEGIN:STANDARD
TZOFFSETFROM:-0300
TZOFFSETTO:-0400
TZNAME:AST
DTSTART:20271107T050000
END:STANDARD
END:VTIMEZONE
BEGIN:VEVENT
DTSTART;TZID=America/Halifax:20260305T180000
DTEND;TZID=America/Halifax:20260602T180000
DTSTAMP:20260422T012255
CREATED:20260226T182621Z
LAST-MODIFIED:20260226T182621Z
UID:10019672-1772733600-1780423200@buzzpei.com
SUMMARY:Quartette: Four Voices in Fibre Opening Reception
DESCRIPTION:The spring art rotation at The Gallery – Coffee House & Bistro in Charlottetown features Quartette: Four Voices in Fibre\, an exhibition of rug hooking works by New Brunswick artist Katherine DeVere-Pettigrew and Prince Edward Island artists Carol Gabanna\, Carol Moffatt\, and Darlene Rhodenizer. The exhibition runs from March 2 to May 31 at 82 Great George Street\, Charlottetown. \nQuartette: Four Voices in Fibre presents the work of four contemporary fibre artists whose practices are rooted in rug hooking and expanded through experimentation. Working on PEI and in NB\, the artists are connected by a shared passion for self-expression and creativity\, and a deep engagement with fibre\, colour\, and loops of yarn. Together\, these four voices form a quartette—where individual approaches coexist in collective visual harmony. They share a love of shaping the quiet elegance of wool and hope visitors will be delighted\, inspired\, and curious. \nThe artists will celebrate the launch of their show with a free Opening Reception on March 5 from 6–8 pm. Everyone is welcome. The exhibition can be viewed during regular café hours\, 8 am–5 pm daily. All pieces are for sale.
URL:https://buzzpei.com/event/quartette-four-voices-in-fibre-opening-reception/
LOCATION:The Gallery Coffee House & Bistro\, 82 Great George St\, Charlottetown\, PE\, C1A 4K4\, Canada
CATEGORIES:Arts
ATTACH;FMTTYPE=image/jpeg:https://buzzpeicom.twic.pics/2026/02/art-Carol-Moffatt-rug-cat-5.jpg
END:VEVENT
BEGIN:VEVENT
DTSTART;TZID=America/Halifax:20260422T093000
DTEND;TZID=America/Halifax:20260422T093000
DTSTAMP:20260422T012255
CREATED:20241023T174133Z
LAST-MODIFIED:20260323T170602Z
UID:10020250-1776850200-1776850200@buzzpei.com
SUMMARY:Seniors Navigator
DESCRIPTION:The Seniors Navigator will be at the Charlottetown Library on April 8 and 22 from 9:30 am–3:30 pm for drop-in assistance. The program helps seniors access services and programs offered by community organizations and all levels of government more efficiently.
URL:https://buzzpei.com/event/seniors-navigator-4/
LOCATION:Charlottetown Library Learning Centre\, 97 Queen St\, Charlottetown\, PE\, C1A 4A9\, Canada
CATEGORIES:Community
ATTACH;FMTTYPE=image/jpeg:https://buzzpeicom.twic.pics/2023/10/senior-connor-olson-R_jWv5XkjYo-unsplash-scaled.jpg
END:VEVENT
BEGIN:VEVENT
DTSTART;TZID=America/Halifax:20260422T123000
DTEND;TZID=America/Halifax:20260422T123000
DTSTAMP:20260422T012255
CREATED:20260106T121808Z
LAST-MODIFIED:20260420T145104Z
UID:10019758-1776861000-1776861000@buzzpei.com
SUMMARY:Fascinating Ladies of Country
DESCRIPTION:Young at Heart Theatre presents: Fascinating Ladies of Country\, an engaging musical revue that celebrates the iconic women of country music\, honouring the artists whose songs and stories helped shape both the genre and the broader movement toward women’s empowerment in music and beyond. \nThis show is a celebration of the artists who put feminism and women’s liberation at the forefront\, and made significant contributions to gender equality through music and activism. This new musical revue will feature songs from familiar artists like Dolly Parton\, Loretta Lynne and Tammy Wynette\, Emmylou Harris\, The Chicks\, Brandi Carlile\, KD Lang\, Anne Murray\, Shania Twain and more. \nFascinating Ladies of Country is written\, compiled and directed by Catherine O’Brien\, with musical arrangements and musical direction by Brielle Ansems\, and features Island artists Olivia Blacquere\, Stephanie Ross and Haley Zavo. \nYoung at Heart Theatre will present Fascinating Ladies of Country at venues Island-wide this spring\, including: The Cornwall 50 +Club in Cornwall on April 22 at 12:30 pm (902-393-2531).
URL:https://buzzpei.com/event/fascinating-ladies-of-country-9/
LOCATION:Cornwall Civic Centre\, 29 Cornwall Rd\, Cornwall\, PE\, C0A 1H1\, Canada
CATEGORIES:Music,Stage,Theatre
ATTACH;FMTTYPE=image/jpeg:https://buzzpeicom.twic.pics/2026/03/Fascinating-Ladies-of-Country-cast-company-submitted-scaled.jpg
END:VEVENT
BEGIN:VEVENT
DTSTART;TZID=America/Halifax:20260422T140000
DTEND;TZID=America/Halifax:20260422T140000
DTSTAMP:20260422T012255
CREATED:20240918T160044Z
LAST-MODIFIED:20260323T180659Z
UID:10020284-1776866400-1776866400@buzzpei.com
SUMMARY:Crokinole
DESCRIPTION:Socialize and enjoy a game of crokinole on April 8 and 22 at 2 pm at the Summerside Rotary Library. 
URL:https://buzzpei.com/event/crokinole-4/
LOCATION:Summerside Rotary Library\, 57 Central St\, Summerside\, PE\, C1N 3K9\, Canada
CATEGORIES:Community
ATTACH;FMTTYPE=image/jpeg:https://buzzpeicom.twic.pics/2023/06/cards-games-HOLDER.jpg
END:VEVENT
BEGIN:VEVENT
DTSTART;TZID=America/Halifax:20260422T153000
DTEND;TZID=America/Halifax:20260422T153000
DTSTAMP:20260422T012255
CREATED:20240916T173706Z
LAST-MODIFIED:20260323T165638Z
UID:10020244-1776871800-1776871800@buzzpei.com
SUMMARY:Creative Kids Club
DESCRIPTION:Kids aged 6–12 can join a creative after school club in the Children’s Room at the Charlottetown Library. The club meets weekly on Wednesdays at 3:30 pm. Each week offers a selection of crafts and activities.
URL:https://buzzpei.com/event/creative-kids-club-10/
LOCATION:Charlottetown Library Learning Centre\, 97 Queen St\, Charlottetown\, PE\, C1A 4A9\, Canada
CATEGORIES:Arts,Community,Science & Nature
ATTACH;FMTTYPE=image/jpeg:https://buzzpeicom.twic.pics/2024/03/art-kids-science-uk-black-tech-Ib3ocAKccyI-unsplash-scaled.jpg
END:VEVENT
BEGIN:VEVENT
DTSTART;TZID=America/Halifax:20260422T153000
DTEND;TZID=America/Halifax:20260422T153000
DTSTAMP:20260422T012255
CREATED:20260323T180854Z
LAST-MODIFIED:20260323T181025Z
UID:10020288-1776871800-1776871800@buzzpei.com
SUMMARY:LARP Club for Kids
DESCRIPTION:Kids aged 10–14 can join for some live-action role playing\, costume and prop making\, and a whole lot of fun in the auditorium at the Charlottetown Library on Wednesdays at 3:30 pm. \nRegister online. 
URL:https://buzzpei.com/event/larp-club-for-kids-4/
LOCATION:Charlottetown Library Learning Centre\, 97 Queen St\, Charlottetown\, PE\, C1A 4A9\, Canada
CATEGORIES:Arts,Community
ATTACH;FMTTYPE=image/jpeg:https://buzzpeicom.twic.pics/2023/05/paper-suncatcher.jpg
END:VEVENT
BEGIN:VEVENT
DTSTART;TZID=America/Halifax:20260422T170000
DTEND;TZID=America/Halifax:20260422T170000
DTSTAMP:20260422T012255
CREATED:20260327T173754Z
LAST-MODIFIED:20260420T145306Z
UID:10020324-1776877200-1776877200@buzzpei.com
SUMMARY:Listening to Talking to Humans (about the end of the world): An Earth Day Gathering
DESCRIPTION:On Earth Day\, April 22\, the public is invited to join Chanel Briggs\, Millefiore Clarkes\, and Al Kelly for Listening to Talking to Humans (about the end of the world): An Earth Day Gathering of food\, poetry\, film\, and song from 5–7 pm at the Haviland in Charlottetown. \nThe event celebrates the planet while offering space to process collective concern through art. It is grounded in the idea that we cannot get to a future we haven’t first imagined\, and frames art as both an expression for\, and a conduit to resistance and joyful rebellion. \nAttendees are invited to eat food with their community before settling in for a spoken word performance by acclaimed poet Chanel Briggs\, a short film entitled talking to humans about the end of the world—filmed over the summer of 2024 on Epekwitk/PEI by filmmaker Millefiore Clarkes—and a rousing spontaneous choir experience led by musician and choir director Al Kelly (all voices welcome). No answers or solutions are required\, just a get together to connect and process through food\, poetry\, film\, and song. \nAdmission is free at the door\, with donations accepted. Doors open at 5 pm. Food is served from 5–6 pm\, and performances begin at 6 pm. A cash bar is available. This is an all ages event.
URL:https://buzzpei.com/event/listening-to-talking-to-humans-about-the-end-of-the-world-an-earth-day-gathering/
LOCATION:Haviland Club\, 2 Haviland St\, Charlottetown\, PE\, C1A 3S6\, Canada
CATEGORIES:Arts,Community,Food & Drink,Music,Readers & Writers
ATTACH;FMTTYPE=image/jpeg:https://buzzpeicom.twic.pics/2026/03/Chanel-Briggs-submitted-scaled.jpg
END:VEVENT
BEGIN:VEVENT
DTSTART;TZID=America/Halifax:20260422T183000
DTEND;TZID=America/Halifax:20260422T183000
DTSTAMP:20260422T012255
CREATED:20260323T164039Z
LAST-MODIFIED:20260330T151833Z
UID:10020233-1776882600-1776882600@buzzpei.com
SUMMARY:Earth Day with Kate MacQuarrie
DESCRIPTION:Award-winning biologist\, author\, and forager Kate MacQuarrie will celebrate Earth Day with an illustrated talk on wild foods of PEI at the Charlottetown Library on April 22 at 6:30 pm. The talk will feature some of her favourite common wild greens\, roots\, mushrooms\, and berries. Everyone is welcome.
URL:https://buzzpei.com/event/earth-day-with-kate-macquarrie/
LOCATION:Charlottetown Library Learning Centre\, 97 Queen St\, Charlottetown\, PE\, C1A 4A9\, Canada
CATEGORIES:Community,Food & Drink,Science & Nature
ATTACH;FMTTYPE=image/jpeg:https://buzzpeicom.twic.pics/2023/06/Kate-MacQuarrie-profilebuzz-scaled.jpg
END:VEVENT
BEGIN:VEVENT
DTSTART;TZID=America/Halifax:20260422T183000
DTEND;TZID=America/Halifax:20260422T183000
DTSTAMP:20260422T012255
CREATED:20260323T181954Z
LAST-MODIFIED:20260323T181954Z
UID:10020292-1776882600-1776882600@buzzpei.com
SUMMARY:The PEI Museum and Heritage Foundation Annual General Meeting
DESCRIPTION:The PEI Museum and Heritage Foundation’s annual general meeting will be held at the Beaconsfield Carriage House in Charlottetown on April 22 at 6:30 pm. \nThe evening will include updates on Foundation initiatives and a presentation from keynote speaker Laura MacNeil\, founder of Prehistoric Island Tours. All members of the public are welcome to participate and learn more about the Foundation’s work.
URL:https://buzzpei.com/event/120599/
LOCATION:Beaconsfield Historic/Carriage House\, 2 Kent St\, Charlottetown\, PE\, C1A 1M6\, Canada
CATEGORIES:Community,Science & Nature
ATTACH;FMTTYPE=image/jpeg:https://buzzpeicom.twic.pics/2024/01/conference-meeting-lecture-andrei-stratu-kcJsQ3PJrYU-unsplash-scaled.jpg
END:VEVENT
BEGIN:VEVENT
DTSTART;TZID=America/Halifax:20260422T190000
DTEND;TZID=America/Halifax:20260422T190000
DTSTAMP:20260422T012255
CREATED:20240626T150120Z
LAST-MODIFIED:20260407T174219Z
UID:10020558-1776884400-1776884400@buzzpei.com
SUMMARY:City Cinema: Horseshoe
DESCRIPTION:Drama/Comedy. 14A\, coarse language\, violence\, mature themes.\nDir: Edwin Mullane/Adam O’Keeffe\, Ireland\, 2025\, 88 min.\nCarolyn Bracken\, John Connors\, Lalor Roddy.\nWinner\, Best Irish First Feature at the Galway Film Fleadh.\nSponsored by the Benevolent Irish Society. \n“The combustible set-up is familiar: a traumatised family\, a contested inheritance and a house rattling with difficult history. But Horseshoe reinvents this dog-eared premise with dark humour and a keen understanding of the emotional complexities underpinning huge family rows. Jer and Evan have never left the outsize rural home that father Colm ruled with an iron fist. They are a study in arrested development… Meanwhile… Cass is close to losing her house; Niall\, a yoga practitioner\, is being drained financially and psychologically by a custody battle. Tension surges as soon as they’re all in the same room – and only escalates when a solicitor announces they have 24 hours to unanimously decide how to settle the estate or risk everything going to the State. The returnees are desperate to sell the house; the remainers will do anything to keep their home. Old alliances and grudges swiftly resurface. O’Keeffe’s well-observed script sketches a family who communicate through barbs\, sullen silences and unwanted cups of tea… The film’s locations\, notably the characterful\, lonely house on the Sligo-Donegal border\, are framed with grey\, rough-hewn beauty… Horseshoe was a deserving winner of the award for best Irish first feature at Galway Film Fleadh and a fine opening gambit for the film-making duo.” —Tara Brady\, The Irish Times \n 
URL:https://buzzpei.com/event/city-cinema-horseshoe-7/
LOCATION:City Cinema\, 64 King St\, Charlottetown\, PE\, C1A 1B3\, Canada
CATEGORIES:City Cinema,Screen
ATTACH;FMTTYPE=image/png:https://buzzpeicom.twic.pics/2024/06/Horseshoe-scaled.png
END:VEVENT
BEGIN:VEVENT
DTSTART;TZID=America/Halifax:20260422T190000
DTEND;TZID=America/Halifax:20260422T190000
DTSTAMP:20260422T012255
CREATED:20260327T174957Z
LAST-MODIFIED:20260327T174957Z
UID:10020326-1776884400-1776884400@buzzpei.com
SUMMARY:Earth Day Concert
DESCRIPTION:An Earth Day Concert will be held on April 22 at 7 pm at The Mount. \nAll are invited to celebrate the land and sea—and the beauty of our planet—through music and song performed by volunteer musicians. \nThis concert offers a chance to reflect on and appreciate the world we live in\, and our shared responsibility to cherish and safeguard it. \nAdmission is by donation.
URL:https://buzzpei.com/event/earth-day-concert/
LOCATION:The Mount\, 141 Mt. Edward Rd\, Charlottetown\, PE\, C1A 5T1\, Canada
CATEGORIES:Music
ATTACH;FMTTYPE=image/jpeg:https://buzzpeicom.twic.pics/2023/07/alfonso-scarpa-3adOGP7_RqA-unsplash-scaled.jpg
END:VEVENT
BEGIN:VEVENT
DTSTART;TZID=America/Halifax:20260422T190000
DTEND;TZID=America/Halifax:20260422T210000
DTSTAMP:20260422T012255
CREATED:20260408T124803Z
LAST-MODIFIED:20260408T124803Z
UID:10020633-1776884400-1776891600@buzzpei.com
SUMMARY:Wheatley River Watershed Annual General Meeting
DESCRIPTION:The Wheatley River Improvement Group invites community members to its annual general meeting at the Cymbria Lions Club Hall on April 22 at 7 pm. \nThe evening will feature guest presentations including “The Fodders of Confederation: An Agricultural History of the Wheatley River” by Dr. Josh MacFadyen\, and “New Methods in Land Use History: The Wheatley River Watershed” by Daria Kass. These special guests will use their photographic storytelling expertise to give a historical look at the Wheatley River atershed. A brief business meeting will follow. All are welcome to attend\, and refreshments will be served.
URL:https://buzzpei.com/event/wheatley-river-watershed-annual-general-meeting/
LOCATION:Cymbria Lions Club\, 2184 Church Rd\, New Glasgow\, PE\, C0A 1N0
CATEGORIES:Community,Science & Nature
ATTACH;FMTTYPE=image/jpeg:https://buzzpeicom.twic.pics/2024/02/lecture-meeting-conference-al-nik-J5XqX-qvEZE-unsplash-scaled.jpg
END:VEVENT
BEGIN:VEVENT
DTSTART;TZID=America/Halifax:20260422T193000
DTEND;TZID=America/Halifax:20260422T193000
DTSTAMP:20260422T012255
CREATED:20260327T165236Z
LAST-MODIFIED:20260327T165236Z
UID:10020307-1776886200-1776886200@buzzpei.com
SUMMARY:For the Love of the Flowers
DESCRIPTION:The Winsloe Players will present For the Love of the Flowers at the Carrefour Theatre in Charlottetown on April 22\, 23\, 24\, and 25 at 7:30 pm. \nThe Winsloe Players have been delighting audiences since their first variety show in 1977. For the Love of the Flowers features romance\, secrets\, and non-stop mayhem. \nDoors open at 7 pm. \nTickets are available at Proude’s Shoes (902-894-3504)\, Winsloe Irving (902-569-0166)\, Clow’s Red & White (902-621-0500)\, QEH Foundation (902-894-2425)\, or from any cast member. \nAll proceeds support the QEH Foundation’s Big Day of Giving. \nFor more information\, visit qehfoundation.pe.ca/events/the-winsloe-players.
URL:https://buzzpei.com/event/for-the-love-of-the-flowers/
LOCATION:Carrefour Theatre\, 5 Acadian Dr\, Charlottetown\, PE\, C1C 1M2\, Canada
CATEGORIES:Stage,Theatre
ATTACH;FMTTYPE=image/jpeg:https://buzzpeicom.twic.pics/2026/03/Winsloe-Players-cast-2026-submitted.jpg
END:VEVENT
BEGIN:VEVENT
DTSTART;TZID=America/Halifax:20260422T200000
DTEND;TZID=America/Halifax:20260422T200000
DTSTAMP:20260422T012255
CREATED:20240411T150457Z
LAST-MODIFIED:20260323T134433Z
UID:10020194-1776888000-1776888000@buzzpei.com
SUMMARY:Trivia at HopYard
DESCRIPTION:Trivia Wednesdays at 8 pm with Hank.
URL:https://buzzpei.com/event/trivia-at-hopyard-18/
LOCATION:HopYard\, 151 Kent St\, Charlottetown\, PE\, C1A 1N5\, Canada
CATEGORIES:Community
ATTACH;FMTTYPE=image/jpeg:https://buzzpeicom.twic.pics/2025/02/Trivia-pic-1.jpg
END:VEVENT
BEGIN:VEVENT
DTSTART;TZID=America/Halifax:20260422T210000
DTEND;TZID=America/Halifax:20260422T210000
DTSTAMP:20260422T012255
CREATED:20230529T154903Z
LAST-MODIFIED:20260407T153515Z
UID:10020507-1776891600-1776891600@buzzpei.com
SUMMARY:Open Mic with KINLEY
DESCRIPTION:Open Mic with KINLEY on Wednesdays at 9 pm.
URL:https://buzzpei.com/event/open-mic-with-kinley-19/
LOCATION:Baba’s Lounge\, 181 Great George St\, Charlottetown\, PE\, C1A 4L1\, Canada
CATEGORIES:Music
ATTACH;FMTTYPE=image/jpeg:https://buzzpeicom.twic.pics/2023/02/event-kinley-openmic.jpg
END:VEVENT
END:VCALENDAR